BEGIN:VCALENDAR
PRODID:-
VERSION:2.0
BEGIN:VEVENT
DTSTART;VALUE=DATE:20250820
DTSTAMP:20260425T212542Z
SEQUENCE:0
SUMMARY:Year 3: Author's Visit
UID:16551@alsiraatcollege
END:VEVENT
END:VCALENDAR
