BEGIN:VCALENDAR
PRODID:-
VERSION:2.0
BEGIN:VEVENT
DTSTART;VALUE=DATE:20250730
LOCATION:Primary Art Area
DTSTAMP:20260426T035822Z
SEQUENCE:0
SUMMARY:Year 7/8 LEAP: After School TOM Workshops
UID:16552@alsiraatcollege
END:VEVENT
END:VCALENDAR
