BEGIN:VCALENDAR
PRODID:-
VERSION:2.0
BEGIN:VEVENT
DTSTART;VALUE=DATE:20251209
LOCATION:Auditorium
DTSTAMP:20260426T033649Z
SEQUENCE:0
SUMMARY:Year 6 Awards Ceremony
UID:16635@alsiraatcollege
END:VEVENT
END:VCALENDAR
