BEGIN:VCALENDAR
PRODID:-
VERSION:2.0
BEGIN:VEVENT
DTSTART;VALUE=DATE:20251209
LOCATION:Auditorium
DTSTAMP:20260426T033540Z
SEQUENCE:0
SUMMARY:Year 6 Graduation Dinner
UID:16636@alsiraatcollege
END:VEVENT
END:VCALENDAR
