BEGIN:VCALENDAR
PRODID:-
VERSION:2.0
BEGIN:VEVENT
DTSTART;VALUE=DATE:20251007
DTSTAMP:20260422T132329Z
SEQUENCE:0
SUMMARY:Year 5 Incursion: Australian Native Wildlife
UID:16651@alsiraatcollege
END:VEVENT
END:VCALENDAR
