BEGIN:VCALENDAR
PRODID:-
VERSION:2.0
BEGIN:VEVENT
DTSTART;VALUE=DATE:20251208
LOCATION:Auditorium
DTSTAMP:20260426T032145Z
SEQUENCE:0
SUMMARY:Taekwondo (After School Program)
UID:16710@alsiraatcollege
END:VEVENT
END:VCALENDAR
