BEGIN:VCALENDAR
PRODID:-
VERSION:2.0
BEGIN:VEVENT
DTSTART;VALUE=DATE:20251208
LOCATION:Oval
DTSTAMP:20260426T033729Z
SEQUENCE:0
SUMMARY:F – 2: Soccer Joeys (After School Program)
UID:16734@alsiraatcollege
END:VEVENT
END:VCALENDAR
