BEGIN:VCALENDAR
PRODID:-
VERSION:2.0
BEGIN:VEVENT
DTSTART;VALUE=DATE:20260105
LOCATION:Reception
DTSTAMP:20260419T143851Z
SEQUENCE:0
SUMMARY:School Office reopens
UID:16758@alsiraatcollege
END:VEVENT
END:VCALENDAR
