BEGIN:VCALENDAR
PRODID:-
VERSION:2.0
BEGIN:VEVENT
DTSTART;VALUE=DATE:20260127
DTSTAMP:20260419T143851Z
SEQUENCE:0
SUMMARY:VCE, Year 7, Foundation & new students start (part day)
UID:16759@alsiraatcollege
END:VEVENT
END:VCALENDAR
