BEGIN:VCALENDAR
PRODID:-
VERSION:2.0
BEGIN:VEVENT
DTSTART;VALUE=DATE:20260128
DTSTAMP:20260419T143844Z
SEQUENCE:0
SUMMARY:All remaining students start Term 1
UID:16760@alsiraatcollege
END:VEVENT
END:VCALENDAR
