BEGIN:VCALENDAR
PRODID:-
VERSION:2.0
BEGIN:VEVENT
DTSTART;TZID=Australia/Melbourne:20260121T000000Z
DTEND;TZID=Australia/Melbourne:20260123T000000Z
TRANSP:OPAQUE
DTSTAMP:20260419T144000Z
SEQUENCE:0
SUMMARY:Student Free Day
UID:16761@alsiraatcollege
END:VEVENT
END:VCALENDAR
