BEGIN:VCALENDAR
PRODID:-
VERSION:2.0
BEGIN:VEVENT
DTSTART;VALUE=DATE:20260608
DTSTAMP:20260421T012721Z
SEQUENCE:0
SUMMARY:King's Birthday (Public Holiday)
UID:16769@alsiraatcollege
END:VEVENT
END:VCALENDAR
