BEGIN:VCALENDAR
PRODID:-
VERSION:2.0
BEGIN:VEVENT
DTSTART;VALUE=DATE:20250713
DTSTAMP:20260426T041251Z
SEQUENCE:0
SUMMARY:Term 3 Commences
UID:16773@alsiraatcollege
END:VEVENT
END:VCALENDAR
