BEGIN:VCALENDAR
PRODID:-
VERSION:2.0
BEGIN:VEVENT
DTSTART;VALUE=DATE:20251209
DTSTAMP:20260419T181548Z
SEQUENCE:0
SUMMARY:Years 7 – 11 Boys: End of Year Activity: La Trobe Sports Facility
UID:16790@alsiraatcollege
END:VEVENT
END:VCALENDAR
