BEGIN:VCALENDAR
PRODID:-
VERSION:2.0
BEGIN:VEVENT
DTSTART;TZID=Australia/Melbourne:20260617T000000Z
DTEND;TZID=Australia/Melbourne:20260629T000000Z
TRANSP:OPAQUE
LOCATION:Malaysia
DTSTAMP:20260419T204548Z
SEQUENCE:0
SUMMARY:Year 10 International Trip Malaysia 2026
UID:16805@alsiraatcollege
END:VEVENT
END:VCALENDAR
