BEGIN:VCALENDAR
PRODID:-
VERSION:2.0
BEGIN:VEVENT
DTSTART;VALUE=DATE:20261015
DTSTAMP:20260421T095526Z
SEQUENCE:0
SUMMARY:Foundation Excursion: Bundoora Farm
UID:16810@alsiraatcollege
END:VEVENT
END:VCALENDAR
