BEGIN:VCALENDAR
PRODID:-
VERSION:2.0
BEGIN:VEVENT
DTSTART;VALUE=DATE:20260812
LOCATION:Auditorium, orange building
DTSTAMP:20260421T053006Z
SEQUENCE:0
SUMMARY:Look and Learn School Tour
UID:16825@alsiraatcollege
END:VEVENT
END:VCALENDAR
