BEGIN:VCALENDAR
PRODID:-
VERSION:2.0
BEGIN:VEVENT
DTSTART;VALUE=DATE:20260826
LOCATION:TEAMS, green building
DTSTAMP:20260421T051627Z
SEQUENCE:0
SUMMARY:Look and Learn School Tour
UID:16826@alsiraatcollege
END:VEVENT
END:VCALENDAR
