BEGIN:VCALENDAR
PRODID:-
VERSION:2.0
BEGIN:VEVENT
DTSTART;VALUE=DATE:20261021
LOCATION:TEAMS, green building
DTSTAMP:20260421T102037Z
SEQUENCE:0
SUMMARY:Look and Learn School Tour
UID:16827@alsiraatcollege
END:VEVENT
END:VCALENDAR
