BEGIN:VCALENDAR
PRODID:-
VERSION:2.0
BEGIN:VEVENT
DTSTART;VALUE=DATE:20261028
LOCATION:Auditorium, orange building
DTSTAMP:20260423T094408Z
SEQUENCE:0
SUMMARY:Look and Learn School Tour
UID:16828@alsiraatcollege
END:VEVENT
END:VCALENDAR
