BEGIN:VCALENDAR
PRODID:-
VERSION:2.0
BEGIN:VEVENT
DTSTART;VALUE=DATE:20251208
LOCATION:B1 Assembly Hall
DTSTAMP:20260419T181612Z
SEQUENCE:0
SUMMARY:Year 10: Islamic College of Sport: Vocational Major Presentation
UID:16847@alsiraatcollege
END:VEVENT
END:VCALENDAR
