BEGIN:VCALENDAR
PRODID:-
VERSION:2.0
BEGIN:VEVENT
DTSTART;TZID=Australia/Melbourne:20260122T000000Z
DTEND;TZID=Australia/Melbourne:20260124T000000Z
TRANSP:OPAQUE
DTSTAMP:20260419T144000Z
SEQUENCE:0
SUMMARY:Hifz & Ilm Holiday Class
UID:16854@alsiraatcollege
END:VEVENT
END:VCALENDAR
