BEGIN:VCALENDAR
PRODID:-
VERSION:2.0
BEGIN:VEVENT
DTSTART;VALUE=DATE:20260627
DTSTAMP:20260420T145534Z
SEQUENCE:0
SUMMARY:Hifz & Ilm Holiday Class
UID:16857@alsiraatcollege
END:VEVENT
END:VCALENDAR
