BEGIN:VCALENDAR
PRODID:-
VERSION:2.0
BEGIN:VEVENT
DTSTART;TZID=Australia/Melbourne:20260629T000000Z
DTEND;TZID=Australia/Melbourne:20260701T000000Z
TRANSP:OPAQUE
DTSTAMP:20260420T183011Z
SEQUENCE:0
SUMMARY:Hifz & Ilm Holiday Class
UID:16858@alsiraatcollege
END:VEVENT
END:VCALENDAR
