BEGIN:VCALENDAR
PRODID:-
VERSION:2.0
BEGIN:VEVENT
DTSTART;VALUE=DATE:20260919
DTSTAMP:20260421T070447Z
SEQUENCE:0
SUMMARY:Hifz & Ilm Holiday Class
UID:16859@alsiraatcollege
END:VEVENT
END:VCALENDAR
