BEGIN:VCALENDAR
PRODID:-
VERSION:2.0
BEGIN:VEVENT
DTSTART;TZID=Australia/Melbourne:20260921T000000Z
DTEND;TZID=Australia/Melbourne:20260923T000000Z
TRANSP:OPAQUE
DTSTAMP:20260421T070447Z
SEQUENCE:0
SUMMARY:Hifz & Ilm Holiday Class
UID:16860@alsiraatcollege
END:VEVENT
END:VCALENDAR
