BEGIN:VCALENDAR
PRODID:-
VERSION:2.0
BEGIN:VEVENT
DTSTART;VALUE=DATE:20260326
DTSTAMP:20260420T215001Z
SEQUENCE:0
SUMMARY:SRC Year 12: Cultural Hi Tea 2026
UID:16936@alsiraatcollege
END:VEVENT
END:VCALENDAR
