BEGIN:VCALENDAR
PRODID:-
VERSION:2.0
BEGIN:VEVENT
DTSTART;VALUE=DATE:20260628
DTSTAMP:20260421T012048Z
SEQUENCE:0
SUMMARY:Secondary SRCs: Feed the Homeless at QVM
UID:16938@alsiraatcollege
END:VEVENT
END:VCALENDAR
