BEGIN:VCALENDAR
PRODID:-
VERSION:2.0
BEGIN:VEVENT
DTSTART;VALUE=DATE:20260719
DTSTAMP:20260421T034059Z
SEQUENCE:0
SUMMARY:Secondary SRCs: Feed the Homeless at QVM
UID:16939@alsiraatcollege
END:VEVENT
END:VCALENDAR
