BEGIN:VCALENDAR
PRODID:-
VERSION:2.0
BEGIN:VEVENT
DTSTART;VALUE=DATE:20260816
DTSTAMP:20260421T051445Z
SEQUENCE:0
SUMMARY:Secondary SRCs: Feed the Homeless at QVM
UID:16940@alsiraatcollege
END:VEVENT
END:VCALENDAR
