BEGIN:VCALENDAR
PRODID:-
VERSION:2.0
BEGIN:VEVENT
DTSTART;VALUE=DATE:20260920
DTSTAMP:20260421T070412Z
SEQUENCE:0
SUMMARY:Secondary SRCs: Feed the Homeless at QVM
UID:16941@alsiraatcollege
END:VEVENT
END:VCALENDAR
