BEGIN:VCALENDAR
PRODID:-
VERSION:2.0
BEGIN:VEVENT
DTSTART;VALUE=DATE:20260324
DTSTAMP:20260420T215028Z
SEQUENCE:0
SUMMARY:Year 9/10 Girls: ISSAV
UID:16943@alsiraatcollege
END:VEVENT
END:VCALENDAR
