BEGIN:VCALENDAR
PRODID:-
VERSION:2.0
BEGIN:VEVENT
DTSTART;VALUE=DATE:20260212
DTSTAMP:20260419T174822Z
SEQUENCE:0
SUMMARY:Year 11/12 Girls: ISSAV
UID:16944@alsiraatcollege
END:VEVENT
END:VCALENDAR
