BEGIN:VCALENDAR
PRODID:-
VERSION:2.0
BEGIN:VEVENT
DTSTART;VALUE=DATE:20260212
DTSTAMP:20260419T180437Z
SEQUENCE:0
SUMMARY:Year 7 Boys: ISSAV Cricket
UID:16945@alsiraatcollege
END:VEVENT
END:VCALENDAR
