BEGIN:VCALENDAR
PRODID:-
VERSION:2.0
BEGIN:VEVENT
DTSTART;VALUE=DATE:20260423
DTSTAMP:20260420T215124Z
SEQUENCE:0
SUMMARY:Year 11 Foundation English Excursion: Immigration Museum
UID:16947@alsiraatcollege
END:VEVENT
END:VCALENDAR
