BEGIN:VCALENDAR
PRODID:-
VERSION:2.0
BEGIN:VEVENT
DTSTART;VALUE=DATE:20260422
DTSTAMP:20260420T215001Z
SEQUENCE:0
SUMMARY:Year 10-12 Community Services Students: First Aid Training
UID:16948@alsiraatcollege
END:VEVENT
END:VCALENDAR
