BEGIN:VCALENDAR
PRODID:-
VERSION:2.0
BEGIN:VEVENT
DTSTART;TZID=Australia/Melbourne:20260915T000000Z
DTEND;TZID=Australia/Melbourne:20260918T000000Z
TRANSP:OPAQUE
DTSTAMP:20260421T101949Z
SEQUENCE:0
SUMMARY:Year 10/11 VET Community Services Placements
UID:16949@alsiraatcollege
END:VEVENT
END:VCALENDAR
