BEGIN:VCALENDAR
PRODID:-
VERSION:2.0
BEGIN:VEVENT
DTSTART;VALUE=DATE:20261016
LOCATION:Auditorium
DTSTAMP:20260421T114056Z
SEQUENCE:0
SUMMARY:SRC Secondary Year 12 Farewell
UID:16951@alsiraatcollege
END:VEVENT
END:VCALENDAR
