BEGIN:VCALENDAR
PRODID:-
VERSION:2.0
BEGIN:VEVENT
DTSTART;VALUE=DATE:20260612
LOCATION:Auditorium
DTSTAMP:20260421T012222Z
SEQUENCE:0
SUMMARY:Community Interfaith Eid Al Adha Dinner
UID:16952@alsiraatcollege
END:VEVENT
END:VCALENDAR
