BEGIN:VCALENDAR
PRODID:-
VERSION:2.0
BEGIN:VEVENT
DTSTART;VALUE=DATE:20260310
LOCATION:Auditorium
DTSTAMP:20260420T215123Z
SEQUENCE:0
SUMMARY:Primary NAPLAN (Years 3 & 5): Trial Sessions
UID:16953@alsiraatcollege
END:VEVENT
END:VCALENDAR
