BEGIN:VCALENDAR
PRODID:-
VERSION:2.0
BEGIN:VEVENT
DTSTART;TZID=Australia/Melbourne:20260311T000000Z
DTEND;TZID=Australia/Melbourne:20260313T000000Z
TRANSP:OPAQUE
LOCATION:Auditorium
DTSTAMP:20260420T214920Z
SEQUENCE:0
SUMMARY:NAPLAN (Years 3, 5, 7 & 9)
UID:16954@alsiraatcollege
END:VEVENT
END:VCALENDAR
