BEGIN:VCALENDAR
PRODID:-
VERSION:2.0
BEGIN:VEVENT
DTSTART;TZID=Australia/Melbourne:20260302T000000Z
DTEND;TZID=Australia/Melbourne:20260306T000000Z
TRANSP:OPAQUE
DTSTAMP:20260420T215141Z
SEQUENCE:0
SUMMARY:Ramadan Bell Times & Timetable
UID:16956@alsiraatcollege
END:VEVENT
END:VCALENDAR
