BEGIN:VCALENDAR
PRODID:-
VERSION:2.0
BEGIN:VEVENT
DTSTART;TZID=Australia/Melbourne:20260309T000000Z
DTEND;TZID=Australia/Melbourne:20260313T000000Z
TRANSP:OPAQUE
DTSTAMP:20260420T215129Z
SEQUENCE:0
SUMMARY:Ramadan Bell Times & Timetable
UID:16957@alsiraatcollege
END:VEVENT
END:VCALENDAR
