BEGIN:VCALENDAR
PRODID:-
VERSION:2.0
BEGIN:VEVENT
DTSTART;VALUE=DATE:20260811
DTSTAMP:20260421T051444Z
SEQUENCE:0
SUMMARY:In School Class Day with Ms Jemma from Real Schools
UID:16958@alsiraatcollege
END:VEVENT
END:VCALENDAR
