BEGIN:VCALENDAR
PRODID:-
VERSION:2.0
BEGIN:VEVENT
DTSTART;VALUE=DATE:20260513
LOCATION:TEAMS Building (green)
DTSTAMP:20260420T234401Z
SEQUENCE:0
SUMMARY:Look & Learn School Tour
UID:16959@alsiraatcollege
END:VEVENT
END:VCALENDAR
