BEGIN:VCALENDAR
PRODID:-
VERSION:2.0
BEGIN:VEVENT
DTSTART;VALUE=DATE:20260401
LOCATION:Auditorium
DTSTAMP:20260420T215140Z
SEQUENCE:0
SUMMARY:Parents Meet & Greet with the Principal and Heads of Years
UID:16960@alsiraatcollege
END:VEVENT
END:VCALENDAR
