BEGIN:VCALENDAR
PRODID:-
VERSION:2.0
BEGIN:VEVENT
DTSTART;VALUE=DATE:20260428
LOCATION:Auditorium
DTSTAMP:20260420T234504Z
SEQUENCE:0
SUMMARY:Year 10 Vaccinations
UID:16962@alsiraatcollege
END:VEVENT
END:VCALENDAR
