BEGIN:VCALENDAR
PRODID:-
VERSION:2.0
BEGIN:VEVENT
DTSTART;VALUE=DATE:20260804
LOCATION:Auditorium
DTSTAMP:20260421T051444Z
SEQUENCE:0
SUMMARY:Year 7 Vaccination
UID:16963@alsiraatcollege
END:VEVENT
END:VCALENDAR
