BEGIN:VCALENDAR
PRODID:-
VERSION:2.0
BEGIN:VEVENT
DTSTART;VALUE=DATE:20260220
DTSTAMP:20260420T234336Z
SEQUENCE:0
SUMMARY:ASC Online College: On-site session
UID:16964@alsiraatcollege
END:VEVENT
END:VCALENDAR
