BEGIN:VCALENDAR
PRODID:-
VERSION:2.0
BEGIN:VEVENT
DTSTART;VALUE=DATE:20260327
LOCATION:TEAMS
DTSTAMP:20260420T215000Z
SEQUENCE:0
SUMMARY:ASC Online College: On-site session
UID:16965@alsiraatcollege
END:VEVENT
END:VCALENDAR
